BEGIN:VCALENDAR
VERSION:2.0
PRODID:https://www.kufer.de/kuferweb / DE
METHOD:PUBLISH
CALSCALE:GREGORIAN
X-WR-TIMEZONE:Europe/Berlin
BEGIN:VTIMEZONE
TZID:Europe/Berlin
X-LIC-LOCATION:Europe/Berlin
BEGIN:DAYLIGHT
TZOFFSETFROM:+0100
TZOFFSETTO:+0200
TZNAME:CEST
DTSTART:19700329T020000
RRULE:FREQ=YEARLY;INTERVAL=1;BYDAY=-1SU;BYMONTH=3
END:DAYLIGHT
BEGIN:STANDARD
TZOFFSETFROM:+0200
TZOFFSETTO:+0100
TZNAME:CET
DTSTART:19701025T030000
RRULE:FREQ=YEARLY;INTERVAL=1;BYDAY=-1SU;BYMONTH=10
END:STANDARD
END:VTIMEZONE
BEGIN:VEVENT
DTSTAMP:20260422T123332
DTSTART;TZID=Europe/Berlin:20260910T150000
DTEND;TZID=Europe/Berlin:20260910T163000
UID:262F2601-20260910T150000@KÖLN
SUMMARY:Offener Eltern-Kind-Treff: "Mitreden, Mitentscheiden, Mitgestalten" für (Groß-) Eltern mit Kindern Kostenfrei! (262F2601) 
LOCATION:fbs umsEck Studio zwei, Sachsenring 2-4, 50677 Köln
END:VEVENT
BEGIN:VEVENT
DTSTAMP:20260422T123332
DTSTART;TZID=Europe/Berlin:20260924T150000
DTEND;TZID=Europe/Berlin:20260924T163000
UID:262F2601-20260924T150000@KÖLN
SUMMARY:Offener Eltern-Kind-Treff: "Mitreden, Mitentscheiden, Mitgestalten" für (Groß-) Eltern mit Kindern Kostenfrei! (262F2601) 
LOCATION:fbs umsEck Spielzimmer, Sachsenring 2-4, 50677 Köln
END:VEVENT
BEGIN:VEVENT
DTSTAMP:20260422T123332
DTSTART;TZID=Europe/Berlin:20261008T150000
DTEND;TZID=Europe/Berlin:20261008T163000
UID:262F2601-20261008T150000@KÖLN
SUMMARY:Offener Eltern-Kind-Treff: "Mitreden, Mitentscheiden, Mitgestalten" für (Groß-) Eltern mit Kindern Kostenfrei! (262F2601) 
LOCATION:fbs umsEck Studio drei, Sachsenring 2-4, 50677 Köln
END:VEVENT
BEGIN:VEVENT
DTSTAMP:20260422T123332
DTSTART;TZID=Europe/Berlin:20261105T150000
DTEND;TZID=Europe/Berlin:20261105T163000
UID:262F2601-20261105T150000@KÖLN
SUMMARY:Offener Eltern-Kind-Treff: "Mitreden, Mitentscheiden, Mitgestalten" für (Groß-) Eltern mit Kindern Kostenfrei! (262F2601) 
LOCATION:fbs umsEck Spielzimmer, Sachsenring 2-4, 50677 Köln
END:VEVENT
BEGIN:VEVENT
DTSTAMP:20260422T123332
DTSTART;TZID=Europe/Berlin:20261119T150000
DTEND;TZID=Europe/Berlin:20261119T163000
UID:262F2601-20261119T150000@KÖLN
SUMMARY:Offener Eltern-Kind-Treff: "Mitreden, Mitentscheiden, Mitgestalten" für (Groß-) Eltern mit Kindern Kostenfrei! (262F2601) 
LOCATION:fbs umsEck Spielzimmer, Sachsenring 2-4, 50677 Köln
END:VEVENT
BEGIN:VEVENT
DTSTAMP:20260422T123332
DTSTART;TZID=Europe/Berlin:20261203T150000
DTEND;TZID=Europe/Berlin:20261203T163000
UID:262F2601-20261203T150000@KÖLN
SUMMARY:Offener Eltern-Kind-Treff: "Mitreden, Mitentscheiden, Mitgestalten" für (Groß-) Eltern mit Kindern Kostenfrei! (262F2601) 
LOCATION:fbs umsEck Spielzimmer, Sachsenring 2-4, 50677 Köln
END:VEVENT
BEGIN:VEVENT
DTSTAMP:20260422T123332
DTSTART;TZID=Europe/Berlin:20261217T150000
DTEND;TZID=Europe/Berlin:20261217T163000
UID:262F2601-20261217T150000@KÖLN
SUMMARY:Offener Eltern-Kind-Treff: "Mitreden, Mitentscheiden, Mitgestalten" für (Groß-) Eltern mit Kindern Kostenfrei! (262F2601) 
LOCATION:fbs umsEck Spielzimmer, Sachsenring 2-4, 50677 Köln
END:VEVENT
END:VCALENDAR