BEGIN:VCALENDAR
VERSION:2.0
PRODID:https://www.kufer.de/kuferweb / DE
METHOD:PUBLISH
CALSCALE:GREGORIAN
X-WR-TIMEZONE:Europe/Berlin
BEGIN:VTIMEZONE
TZID:Europe/Berlin
X-LIC-LOCATION:Europe/Berlin
BEGIN:DAYLIGHT
TZOFFSETFROM:+0100
TZOFFSETTO:+0200
TZNAME:CEST
DTSTART:19700329T020000
RRULE:FREQ=YEARLY;INTERVAL=1;BYDAY=-1SU;BYMONTH=3
END:DAYLIGHT
BEGIN:STANDARD
TZOFFSETFROM:+0200
TZOFFSETTO:+0100
TZNAME:CET
DTSTART:19701025T030000
RRULE:FREQ=YEARLY;INTERVAL=1;BYDAY=-1SU;BYMONTH=10
END:STANDARD
END:VTIMEZONE
BEGIN:VEVENT
DTSTAMP:20260420T174712
DTSTART;TZID=Europe/Berlin:20260506T190000
DTEND;TZID=Europe/Berlin:20260506T200000
UID:261F91544-20260506T190000@KÖLN
SUMMARY:Hatha-Yoga für alle Level (261F91544) 
LOCATION:CSH Großer Saal, Knauffstr. 1 - 5, 51063 Köln 
END:VEVENT
BEGIN:VEVENT
DTSTAMP:20260420T174712
DTSTART;TZID=Europe/Berlin:20260513T190000
DTEND;TZID=Europe/Berlin:20260513T200000
UID:261F91544-20260513T190000@KÖLN
SUMMARY:Hatha-Yoga für alle Level (261F91544) 
LOCATION:CSH Großer Saal, Knauffstr. 1 - 5, 51063 Köln 
END:VEVENT
BEGIN:VEVENT
DTSTAMP:20260420T174712
DTSTART;TZID=Europe/Berlin:20260520T190000
DTEND;TZID=Europe/Berlin:20260520T200000
UID:261F91544-20260520T190000@KÖLN
SUMMARY:Hatha-Yoga für alle Level (261F91544) 
LOCATION:CSH Großer Saal, Knauffstr. 1 - 5, 51063 Köln 
END:VEVENT
BEGIN:VEVENT
DTSTAMP:20260420T174712
DTSTART;TZID=Europe/Berlin:20260527T190000
DTEND;TZID=Europe/Berlin:20260527T200000
UID:261F91544-20260527T190000@KÖLN
SUMMARY:Hatha-Yoga für alle Level (261F91544) 
LOCATION:CSH Großer Saal, Knauffstr. 1 - 5, 51063 Köln 
END:VEVENT
END:VCALENDAR