BEGIN:VCALENDAR
VERSION:2.0
PRODID:https://www.kufer.de/kuferweb / DE
METHOD:PUBLISH
CALSCALE:GREGORIAN
X-WR-TIMEZONE:Europe/Berlin
BEGIN:VTIMEZONE
TZID:Europe/Berlin
X-LIC-LOCATION:Europe/Berlin
BEGIN:DAYLIGHT
TZOFFSETFROM:+0100
TZOFFSETTO:+0200
TZNAME:CEST
DTSTART:19700329T020000
RRULE:FREQ=YEARLY;INTERVAL=1;BYDAY=-1SU;BYMONTH=3
END:DAYLIGHT
BEGIN:STANDARD
TZOFFSETFROM:+0200
TZOFFSETTO:+0100
TZNAME:CET
DTSTART:19701025T030000
RRULE:FREQ=YEARLY;INTERVAL=1;BYDAY=-1SU;BYMONTH=10
END:STANDARD
END:VTIMEZONE
BEGIN:VEVENT
DTSTAMP:20260420T193339
DTSTART;TZID=Europe/Berlin:20260504T191500
DTEND;TZID=Europe/Berlin:20260504T201500
UID:261F91542-20260504T191500@KÖLN
SUMMARY:Hatha-Yoga für alle Level (261F91542) 
LOCATION:CSH Großer Saal, Knauffstr. 1 - 5, 51063 Köln 
END:VEVENT
BEGIN:VEVENT
DTSTAMP:20260420T193339
DTSTART;TZID=Europe/Berlin:20260511T191500
DTEND;TZID=Europe/Berlin:20260511T201500
UID:261F91542-20260511T191500@KÖLN
SUMMARY:Hatha-Yoga für alle Level (261F91542) 
LOCATION:CSH Großer Saal, Knauffstr. 1 - 5, 51063 Köln 
END:VEVENT
BEGIN:VEVENT
DTSTAMP:20260420T193339
DTSTART;TZID=Europe/Berlin:20260518T191500
DTEND;TZID=Europe/Berlin:20260518T201500
UID:261F91542-20260518T191500@KÖLN
SUMMARY:Hatha-Yoga für alle Level (261F91542) 
LOCATION:CSH Großer Saal, Knauffstr. 1 - 5, 51063 Köln 
END:VEVENT
BEGIN:VEVENT
DTSTAMP:20260420T193339
DTSTART;TZID=Europe/Berlin:20260601T191500
DTEND;TZID=Europe/Berlin:20260601T201500
UID:261F91542-20260601T191500@KÖLN
SUMMARY:Hatha-Yoga für alle Level (261F91542) 
LOCATION:CSH Großer Saal, Knauffstr. 1 - 5, 51063 Köln 
END:VEVENT
BEGIN:VEVENT
DTSTAMP:20260420T193339
DTSTART;TZID=Europe/Berlin:20260608T191500
DTEND;TZID=Europe/Berlin:20260608T201500
UID:261F91542-20260608T191500@KÖLN
SUMMARY:Hatha-Yoga für alle Level (261F91542) 
LOCATION:CSH Großer Saal, Knauffstr. 1 - 5, 51063 Köln 
END:VEVENT
BEGIN:VEVENT
DTSTAMP:20260420T193339
DTSTART;TZID=Europe/Berlin:20260615T191500
DTEND;TZID=Europe/Berlin:20260615T201500
UID:261F91542-20260615T191500@KÖLN
SUMMARY:Hatha-Yoga für alle Level (261F91542) 
LOCATION:CSH Großer Saal, Knauffstr. 1 - 5, 51063 Köln 
END:VEVENT
BEGIN:VEVENT
DTSTAMP:20260420T193339
DTSTART;TZID=Europe/Berlin:20260622T191500
DTEND;TZID=Europe/Berlin:20260622T201500
UID:261F91542-20260622T191500@KÖLN
SUMMARY:Hatha-Yoga für alle Level (261F91542) 
LOCATION:CSH Großer Saal, Knauffstr. 1 - 5, 51063 Köln 
END:VEVENT
BEGIN:VEVENT
DTSTAMP:20260420T193339
DTSTART;TZID=Europe/Berlin:20260629T191500
DTEND;TZID=Europe/Berlin:20260629T201500
UID:261F91542-20260629T191500@KÖLN
SUMMARY:Hatha-Yoga für alle Level (261F91542) 
LOCATION:CSH Großer Saal, Knauffstr. 1 - 5, 51063 Köln 
END:VEVENT
BEGIN:VEVENT
DTSTAMP:20260420T193339
DTSTART;TZID=Europe/Berlin:20260713T191500
DTEND;TZID=Europe/Berlin:20260713T201500
UID:261F91542-20260713T191500@KÖLN
SUMMARY:Hatha-Yoga für alle Level (261F91542) 
LOCATION:CSH Großer Saal, Knauffstr. 1 - 5, 51063 Köln 
END:VEVENT
END:VCALENDAR