BEGIN:VCALENDAR
VERSION:2.0
PRODID:https://www.kufer.de/kuferweb / DE
METHOD:PUBLISH
CALSCALE:GREGORIAN
X-WR-TIMEZONE:Europe/Berlin
BEGIN:VTIMEZONE
TZID:Europe/Berlin
X-LIC-LOCATION:Europe/Berlin
BEGIN:DAYLIGHT
TZOFFSETFROM:+0100
TZOFFSETTO:+0200
TZNAME:CEST
DTSTART:19700329T020000
RRULE:FREQ=YEARLY;INTERVAL=1;BYDAY=-1SU;BYMONTH=3
END:DAYLIGHT
BEGIN:STANDARD
TZOFFSETFROM:+0200
TZOFFSETTO:+0100
TZNAME:CET
DTSTART:19701025T030000
RRULE:FREQ=YEARLY;INTERVAL=1;BYDAY=-1SU;BYMONTH=10
END:STANDARD
END:VTIMEZONE
BEGIN:VEVENT
DTSTAMP:20260422T105346
DTSTART;TZID=Europe/Berlin:20260720T153000
DTEND;TZID=Europe/Berlin:20260720T183000
UID:261F2204-20260720T153000@KÖLN
SUMMARY:Sommer Sonne Spaß und Farben (Groß-)Eltern-Kind-Kreativkurs für Kinder ab 4 Jahren (261F2204) 
LOCATION:fbs umsEck Spielzimmer, Sachsenring 2-4, 50677 Köln
END:VEVENT
BEGIN:VEVENT
DTSTAMP:20260422T105346
DTSTART;TZID=Europe/Berlin:20260721T153000
DTEND;TZID=Europe/Berlin:20260721T183000
UID:261F2204-20260721T153000@KÖLN
SUMMARY:Sommer Sonne Spaß und Farben (Groß-)Eltern-Kind-Kreativkurs für Kinder ab 4 Jahren (261F2204) 
LOCATION:fbs umsEck Spielzimmer, Sachsenring 2-4, 50677 Köln
END:VEVENT
BEGIN:VEVENT
DTSTAMP:20260422T105346
DTSTART;TZID=Europe/Berlin:20260722T153000
DTEND;TZID=Europe/Berlin:20260722T183000
UID:261F2204-20260722T153000@KÖLN
SUMMARY:Sommer Sonne Spaß und Farben (Groß-)Eltern-Kind-Kreativkurs für Kinder ab 4 Jahren (261F2204) 
LOCATION:fbs umsEck Spielzimmer, Sachsenring 2-4, 50677 Köln
END:VEVENT
BEGIN:VEVENT
DTSTAMP:20260422T105346
DTSTART;TZID=Europe/Berlin:20260723T153000
DTEND;TZID=Europe/Berlin:20260723T183000
UID:261F2204-20260723T153000@KÖLN
SUMMARY:Sommer Sonne Spaß und Farben (Groß-)Eltern-Kind-Kreativkurs für Kinder ab 4 Jahren (261F2204) 
LOCATION:fbs umsEck Spielzimmer, Sachsenring 2-4, 50677 Köln
END:VEVENT
BEGIN:VEVENT
DTSTAMP:20260422T105346
DTSTART;TZID=Europe/Berlin:20260724T153000
DTEND;TZID=Europe/Berlin:20260724T183000
UID:261F2204-20260724T153000@KÖLN
SUMMARY:Sommer Sonne Spaß und Farben (Groß-)Eltern-Kind-Kreativkurs für Kinder ab 4 Jahren (261F2204) 
LOCATION:fbs umsEck Spielzimmer, Sachsenring 2-4, 50677 Köln
END:VEVENT
END:VCALENDAR