BEGIN:VCALENDAR
VERSION:2.0
PRODID:https://www.kufer.de/kuferweb / DE
METHOD:PUBLISH
CALSCALE:GREGORIAN
X-WR-TIMEZONE:Europe/Berlin
BEGIN:VTIMEZONE
TZID:Europe/Berlin
X-LIC-LOCATION:Europe/Berlin
BEGIN:DAYLIGHT
TZOFFSETFROM:+0100
TZOFFSETTO:+0200
TZNAME:CEST
DTSTART:19700329T020000
RRULE:FREQ=YEARLY;INTERVAL=1;BYDAY=-1SU;BYMONTH=3
END:DAYLIGHT
BEGIN:STANDARD
TZOFFSETFROM:+0200
TZOFFSETTO:+0100
TZNAME:CET
DTSTART:19701025T030000
RRULE:FREQ=YEARLY;INTERVAL=1;BYDAY=-1SU;BYMONTH=10
END:STANDARD
END:VTIMEZONE
BEGIN:VEVENT
DTSTAMP:20260422T105034
DTSTART;TZID=Europe/Berlin:20260810T100000
DTEND;TZID=Europe/Berlin:20260810T113000
UID:261F2039-20260810T100000@KÖLN
SUMMARY:Treff für Großeltern – Gemeinsam Großelternsein erleben mit Kindern ab 1 Jahr (261F2039) 
LOCATION:fbs umsEck Spielzimmer, Sachsenring 2-4, 50677 Köln
END:VEVENT
BEGIN:VEVENT
DTSTAMP:20260422T105034
DTSTART;TZID=Europe/Berlin:20260811T100000
DTEND;TZID=Europe/Berlin:20260811T113000
UID:261F2039-20260811T100000@KÖLN
SUMMARY:Treff für Großeltern – Gemeinsam Großelternsein erleben mit Kindern ab 1 Jahr (261F2039) 
LOCATION:fbs umsEck Spielzimmer, Sachsenring 2-4, 50677 Köln
END:VEVENT
BEGIN:VEVENT
DTSTAMP:20260422T105034
DTSTART;TZID=Europe/Berlin:20260812T100000
DTEND;TZID=Europe/Berlin:20260812T113000
UID:261F2039-20260812T100000@KÖLN
SUMMARY:Treff für Großeltern – Gemeinsam Großelternsein erleben mit Kindern ab 1 Jahr (261F2039) 
LOCATION:fbs umsEck Spielzimmer, Sachsenring 2-4, 50677 Köln
END:VEVENT
BEGIN:VEVENT
DTSTAMP:20260422T105034
DTSTART;TZID=Europe/Berlin:20260813T100000
DTEND;TZID=Europe/Berlin:20260813T113000
UID:261F2039-20260813T100000@KÖLN
SUMMARY:Treff für Großeltern – Gemeinsam Großelternsein erleben mit Kindern ab 1 Jahr (261F2039) 
LOCATION:fbs umsEck Spielzimmer, Sachsenring 2-4, 50677 Köln
END:VEVENT
END:VCALENDAR